BEGIN:VCALENDAR
VERSION:2.0
PRODID:-//eventon.com NONSGML v1.0//EN
CALSCALE:GREGORIAN
METHOD:PUBLISH
BEGIN:VEVENT
UID:69ea8c7249182
DTSTAMP:20260423T211738Z
DTSTART:20260529T192500Z
DTEND:20260529T222500Z
LOCATION:
SUMMARY:Élektro Kora @ Montbel (09)
DESCRIPTION:Élektro Kora @ Montbel (09)\nhttps://mickaelmazaleyrat.fr/even
 ts/elektro-kora-montbel-09/
URL:https://mickaelmazaleyrat.fr/events/elektro-kora-montbel-09/
END:VEVENT
END:VCALENDAR