BEGIN:VCALENDAR
VERSION:2.0
PRODID:-//eventon.com NONSGML v1.0//EN
CALSCALE:GREGORIAN
METHOD:PUBLISH
BEGIN:VEVENT
UID:69eca65a53496
DTSTAMP:20260425T113242Z
DTSTART:20261205
DTEND:20261206
LOCATION:
SUMMARY:Soirée Johnny Hallyday @ Limoges (87)
DESCRIPTION:Soirée Johnny Hallyday @ Limoges (87)\nhttps://mickaelmazaleyr
 at.fr/events/soiree-johnny-halliday-limoges-87/
URL:https://mickaelmazaleyrat.fr/events/soiree-johnny-halliday-limoges-87/
END:VEVENT
END:VCALENDAR