BEGIN:VCALENDAR
VERSION:2.0
PRODID:-//eventon.com NONSGML v1.0//EN
CALSCALE:GREGORIAN
METHOD:PUBLISH
BEGIN:VEVENT
UID:69e747132d935
DTSTAMP:20260421T094451Z
DTSTART:20260802
DTEND:20260803
LOCATION:
SUMMARY:Jim Robert Band @ Champeix (53)
DESCRIPTION:Informations à venir\nhttps://mickaelmazaleyrat.fr/events/jim-
 robert-band-champeix-53/
URL:https://mickaelmazaleyrat.fr/events/jim-robert-band-champeix-53/
END:VEVENT
END:VCALENDAR