BEGIN:VCALENDAR
VERSION:2.0
PRODID:-//eventon.com NONSGML v1.0//EN
CALSCALE:GREGORIAN
METHOD:PUBLISH
BEGIN:VEVENT
UID:69eca60774643
DTSTAMP:20260425T113119Z
DTSTART:20260704
DTEND:20260705
LOCATION:
SUMMARY:Biker Trophy @ Romilly sur Seine (10)
DESCRIPTION:Concert avec d'anciens musiciens de Johnny tel que Nono\,  Rock
 y\,  et Pierre Benvenuti au chant.\nhttps://mickaelmazaleyrat.fr/events/bik
 er-trophy-romilly-sur-seine-10/
URL:https://mickaelmazaleyrat.fr/events/biker-trophy-romilly-sur-seine-10/
END:VEVENT
END:VCALENDAR