BEGIN:VCALENDAR
VERSION:2.0
PRODID:-//eventon.com NONSGML v1.0//EN
CALSCALE:GREGORIAN
METHOD:PUBLISH
BEGIN:VEVENT
UID:69e9edf153f8d
DTSTAMP:20260423T100121Z
DTSTART:20260531
DTEND:20260601
LOCATION:
SUMMARY:Gargantuesque @ Limoges (87)
DESCRIPTION:Mickaël Mazaleyrat est l'invité du Tapis rouge pour la Foire 
 de Limoges\nhttps://mickaelmazaleyrat.fr/events/gargantuesque-limoges-87/
URL:https://mickaelmazaleyrat.fr/events/gargantuesque-limoges-87/
END:VEVENT
END:VCALENDAR