BEGIN:VCALENDAR
VERSION:2.0
PRODID:-//eventon.com NONSGML v1.0//EN
CALSCALE:GREGORIAN
METHOD:PUBLISH
BEGIN:VEVENT
UID:69e6237f49020
DTSTAMP:20260420T130047Z
DTSTART:20260327T210000Z
DTEND:20260327T235000Z
LOCATION:
SUMMARY:Soul Kitchen @ Latrape (31)
DESCRIPTION:https://youtu.be/HDEaCJtqTNo?si=Pr53NUTDo6nfrzyb\nhttps://micka
 elmazaleyrat.fr/events/soul-kitchen-latrape-31/
URL:https://mickaelmazaleyrat.fr/events/soul-kitchen-latrape-31/
END:VEVENT
END:VCALENDAR