BEGIN:VCALENDAR
VERSION:2.0
PRODID:-//eventon.com NONSGML v1.0//EN
CALSCALE:GREGORIAN
METHOD:PUBLISH
BEGIN:VEVENT
UID:69e74a47d3374
DTSTAMP:20260421T095831Z
DTSTART:20260222T190000Z
DTEND:20260222T220000Z
LOCATION:
SUMMARY:Weeping Widows @ Revel (31)
DESCRIPTION:Les Weeping Widows en concert ! https://youtu.be/VCs1b0JKe8w?si
 =jeJGj1A-lbTOLoOt\nhttps://mickaelmazaleyrat.fr/events/weeping-widows-revel
 -31-3/
URL:https://mickaelmazaleyrat.fr/events/weeping-widows-revel-31-3/
END:VEVENT
END:VCALENDAR