BEGIN:VCALENDAR
VERSION:2.0
PRODID:-//eventon.com NONSGML v1.0//EN
CALSCALE:GREGORIAN
METHOD:PUBLISH
BEGIN:VEVENT
UID:69e82116d924d
DTSTAMP:20260422T011502Z
DTSTART:20260122T193000Z
DTEND:20260122T235000Z
LOCATION:
SUMMARY:Les Trois Canailles @ Limoges (87)
DESCRIPTION:Repas concert au Tapis rouge\nhttps://mickaelmazaleyrat.fr/even
 ts/les-trois-canailles-limoges-87/
URL:https://mickaelmazaleyrat.fr/events/les-trois-canailles-limoges-87/
END:VEVENT
END:VCALENDAR