BEGIN:VCALENDAR
VERSION:2.0
PRODID:-//eventon.com NONSGML v1.0//EN
CALSCALE:GREGORIAN
METHOD:PUBLISH
BEGIN:VEVENT
UID:69e7de7218266
DTSTAMP:20260421T203042Z
DTSTART:20250614
DTEND:20250615
LOCATION:
SUMMARY:Gargantuesque & Friends @ Beaumont (31)
DESCRIPTION:Animation de la journée des Portes ouvertes du Domaine du Ribo
 nnet\,  avec le spectacle Gargantuesque\nhttps://mickaelmazaleyrat.fr/event
 s/gargantuesque-friends-beaumont-31/
URL:https://mickaelmazaleyrat.fr/events/gargantuesque-friends-beaumont-31/
END:VEVENT
END:VCALENDAR