BEGIN:VCALENDAR
VERSION:2.0
PRODID:-//eventon.com NONSGML v1.0//EN
CALSCALE:GREGORIAN
METHOD:PUBLISH
BEGIN:VEVENT
UID:69e5ed2f9bdcd
DTSTAMP:20260420T090903Z
DTSTART:20250411T193000Z
DTEND:20250411T230000Z
LOCATION:
SUMMARY:Le Tapis rouge chante Les vieilles canailles @ Limoges (87)
DESCRIPTION:Pierre Fourgeaud\,  Rémi Pleindoux et Mickael Mazaleyrat inter
 préteront les plus grands standards des trois stars. Réservations : 05550
 86308 du lundi au vendredi de 9h à 16h\nhttps://mickaelmazaleyrat.fr/event
 s/le-tapis-rouge-chante-les-vieilles-canailles/
URL:https://mickaelmazaleyrat.fr/events/le-tapis-rouge-chante-les-vieilles-canailles/
END:VEVENT
END:VCALENDAR