BEGIN:VCALENDAR
VERSION:2.0
PRODID:-//eventon.com NONSGML v1.0//EN
CALSCALE:GREGORIAN
METHOD:PUBLISH
BEGIN:VEVENT
UID:69e8a527ab73b
DTSTAMP:20260422T103831Z
DTSTART:20250405T100300Z
DTEND:20250405T100300Z
LOCATION:
SUMMARY:Bootleggers @ Mourenx (64)
DESCRIPTION:Bootleggers @ Mourenx (64)\nhttps://mickaelmazaleyrat.fr/events
 /bootleggers-mourenx-64/
URL:https://mickaelmazaleyrat.fr/events/bootleggers-mourenx-64/
END:VEVENT
END:VCALENDAR